BEGIN:VCALENDAR
PRODID:NingEventWidget-v1
VERSION:2.0
METHOD:PUBLISH
BEGIN:VEVENT
UID:2508951:Event:23988
DTSTAMP:20260422T091356Z
SUMMARY:1st Annual Blues Breastival @ 31st Street Stage
DESCRIPTION:1st Annual Blues Breastival will be the much-anticipated a
 fter-party of the Susan G. Komen \"Race for the Cure\" event\n\n5pm - 
 The Duchess Wilder Band\n5:55 pm - Billy Thompson\n7:45 pm - M.S.G.\n8
 :40 pm - DOAD\n9:35 pm - The Buddy Parker Band\n10:30 pm - HRB Blues B
 and\n\nFor more information visit https://vbnightlife.com/events/1st-a
 nnual-blues-breastival
DTSTART:20091017T210000Z
DTEND:20091018T010000Z
CATEGORIES:fundraiser, "/", band
LOCATION:Virginia Beach
WEBSITE:
URL:
CONTACT:
ORGANIZER;CN="VBnightlife.com":https://vbnightlife.com/profile/admin
ATTACH;FMTTYPE="image/jpeg":
ATTENDEE;ROLE=REQ-PARTICIPANT;PARTSTAT=ACCEPTED;RSVP=TRUE;CN="VBnightl
 ife.com":https://vbnightlife.com/profile/admin
END:VEVENT
END:VCALENDAR
