BEGIN:VCALENDAR
PRODID:NingEventWidget-v1
VERSION:2.0
METHOD:PUBLISH
BEGIN:VEVENT
UID:2508951:Event:24933
DTSTAMP:20260422T044533Z
SUMMARY:15th Annual Holiday Fashion Show and Luncheon at the Cavalier 
 Golf and Yacht Club
DESCRIPTION:\n\nFor more information visit https://vbnightlife.com/eve
 nts/15th-annual-holiday-fashion
DTSTART:20091117T160000Z
DTEND:20091117T200000Z
CATEGORIES:fundraiser
LOCATION:Cavalier Golf and Yacht Club
WEBSITE:
URL:
CONTACT:
ORGANIZER:Seton HOuse Youth Shelters
ATTACH;FMTTYPE="image/jpeg":http://storage.ning.com/topology/rest/1.0/
 file/get/1664095359?profile=original
ATTENDEE;ROLE=REQ-PARTICIPANT;PARTSTAT=ACCEPTED;RSVP=TRUE;CN="VBnightl
 ife.com":https://vbnightlife.com/profile/admin
END:VEVENT
END:VCALENDAR
