BEGIN:VCALENDAR
PRODID:NingEventWidget-v1
VERSION:2.0
METHOD:PUBLISH
BEGIN:VEVENT
UID:2508951:Event:178134
DTSTAMP:20260420T122905Z
SUMMARY:14th Annual Taste of Chesapeake
DESCRIPTION:\n \nThe 14th Annual Taste of Chesapeake sponsored by Mon
 arch Bank is back with 14 wonderful restaurants, silent auction and en
 tertainment.\n$30 per person includes food and beverages\nMarriott Che
 sapeake\n5-9pm\nNovember 17th\nCLICK HERE TO REACH THE WEBSITE\n\nFor 
 more information visit https://vbnightlife.com/events/14th-annual-tast
 e-of-chesapeake
DTSTART:20111117T220000Z
DTEND:20111118T020000Z
CATEGORIES:fundraiser
LOCATION:Marriott Chesapeake
WEBSITE:http://www.tasteofchesapeake.com
URL:http://www.tasteofchesapeake.com
CONTACT:
ORGANIZER:Chesapeake Care Free Clinic
ATTACH;FMTTYPE="image/jpeg":http://storage.ning.com/topology/rest/1.0/
 file/get/1664158094?profile=original
ATTENDEE;ROLE=REQ-PARTICIPANT;PARTSTAT=ACCEPTED;RSVP=TRUE;CN="Carol No
 rris":https://vbnightlife.com/profile/CarolNorris
END:VEVENT
END:VCALENDAR
