BEGIN:VCALENDAR
PRODID:NingEventWidget-v1
VERSION:2.0
METHOD:PUBLISH
BEGIN:VEVENT
UID:2508951:Event:169642
DTSTAMP:20260423T162640Z
SUMMARY:SPIKED CUPCAKES for the first 75 people at 11th Street Taphous
 e with Josh Jordan performing! St. George is the \"New Beer on the Blo
 ck\"!
DESCRIPTION:The St. George Brewing Company\n\nFrom humble beginnings a
 s a \"Brew on Premises\" BOP establishment located in a store-front in
  a strip mall in Virginia Beach in 1991, B. A. Brewmeister has come of
  age as a brewery of craft beers with its 'brew haus' and 'celler' sha
 ring a 10,000 square foot facility located at 204 Challenger Way in Ha
 mpton, Virginia. B.A. Brewmeister currently trades as The St. George B
 rewing Company & Olde Richmond Ale Company.\nThroughout the calendar y
 ear, the brewery produces fourteen styles of craft beers: Spring Lager
 , Summer Ale, Fall Bock and Winter Stout are the seasonals. The mainst
 ay of the style listing include: English India Pale Ale [IPA], Golden 
 Ale, Porter, Nut Brown, American Brown Ale, German style Pilsner Lager
 , and Red Ale under the St George Brewing Company label and are packag
 ed in both kegs and 12 oz bottles. American Pale Ale, Red Ale, and Bro
 wn Ale are packaged in kegs and 20 oz bottles under the Olde Richmond 
 Beer Company label and are commonly known as Batch No. 11, Batch No. 6
 , and Batch No. 4 respectively. In additions we have been selected by 
 Bob and Ellie Tupper to brew and bottle their Hop Pocket Ale and Pilsn
 er which will be commercially available soon.\nAlong the Southeastern 
 Coast of the United States, our beer styles can be found in grocery st
 ores, pubs, taverns, and fine wine establishments in Washington D.C., 
 North and South Carolina, Maryland, and of course, the Commonwealth of
  Virginia. We contract brew fine draft beer for The traveler on the Ou
 ter Banks of North Carolina as \"Kill Devil Hills Ale\" and a early En
 glish \"Tavern Ale\" recipe designed for Colonial Williamsburg.\n \nJ
 osh Jordan is performing while you enjoy a great dinner and some great
  beer!  St. George's Brewery will be the \"New Beer on the Block\"! 
  VBnightlife is in the house with SPIKED CUPCAKES TOO from Carolina Cu
 pcakery for the first 75 people in the door!!!\n\nFor more information
  visit https://vbnightlife.com/events/11th-street-taphouse-has-josh-jo
 rdan-performing-st-george-is-the-
DTSTART:20110915T230000Z
DTEND:20110916T030000Z
CATEGORIES:new, beer, on, the, "block!"
LOCATION:11th St. Taphouse
WEBSITE:http://www.11taphouse.com/
URL:http://www.11taphouse.com/
CONTACT:(757) 321-8354
ORGANIZER;CN="VBnightlife.com":https://vbnightlife.com/profile/admin
ATTACH;FMTTYPE="image/jpeg":http://storage.ning.com/topology/rest/1.0/
 file/get/1664150415?profile=original
ATTENDEE;ROLE=REQ-PARTICIPANT;PARTSTAT=ACCEPTED;RSVP=TRUE;CN="VBnightl
 ife.com":https://vbnightlife.com/profile/admin
END:VEVENT
END:VCALENDAR
