BEGIN:VCALENDAR
PRODID:NingEventWidget-v1
VERSION:2.0
METHOD:PUBLISH
BEGIN:VEVENT
UID:2508951:Event:87863
DTSTAMP:20260423T120459Z
SUMMARY:11th Street Tap House with Carbon Jam from 8:30 to 11:00 pm!
DESCRIPTION:VBnightlife is in the house with Carbon Jam from 8:30 to 1
 1:00 pm.\n \nCarbon Jam is a \"young, talented group that's been maki
 ng waves locally.\" (Daily Press) Since forming in 2008, they have eme
 rged as one of the top bands in the local music scene by \"impressin
 g crowds with their energy and musicianship.\" (Daily Press) Carbon Ja
 m has rocked the house locally at the Virginia Beach Amphitheater, th
 e NorVa and ECSC as well as \"breezed through songs by Van Halen a
 nd Janis Joplin\" at the Jewish Mother. (Virginian-Pilot) You can als
 o find the band on the road, playing venues in the Outer Banks, Charl
 ottesville or Richmond. The band continues to win over fans with a col
 lection of rock covers and original music that blends classic rock, bl
 ues and reggae influences \"with the authority of musicians beyond the
 ir years.\" (Daily Press) Come \"rock out to the most amazing band you
 've seen in a long time. Fresh energy, strong vocals and spot on instr
 umentation... find out why Carbon Jam has become the talk of Virginia 
 Beach.\" (VBnightlife)\n\n\n\n\n\n \n\nFor more information visit htt
 ps://vbnightlife.com/events/11th-street-tap-house-with-1
DTSTART:20110409T003000Z
DTEND:20110409T030000Z
CATEGORIES:entertainment
LOCATION:11th Street Tap House
WEBSITE:http://www.11taphouse.com/
URL:http://www.11taphouse.com/
CONTACT:(757) 321-8354
ORGANIZER;CN="VBnightlife.com":https://vbnightlife.com/profile/admin
ATTACH;FMTTYPE="image/jpeg":http://storage.ning.com/topology/rest/1.0/
 file/get/1664135194?profile=original
ATTENDEE;ROLE=REQ-PARTICIPANT;PARTSTAT=ACCEPTED;RSVP=TRUE;CN="VBnightl
 ife.com":https://vbnightlife.com/profile/admin
ATTENDEE;ROLE=REQ-PARTICIPANT;PARTSTAT=TENTATIVE;RSVP=TRUE;CN=August:h
 ttps://vbnightlife.com/profile/August
END:VEVENT
END:VCALENDAR
