BEGIN:VCALENDAR
PRODID:NingEventWidget-v1
VERSION:2.0
METHOD:PUBLISH
BEGIN:VEVENT
UID:2508951:Event:73289
DTSTAMP:20260420T090606Z
SUMMARY:11th Street Tap House St. Patty's Day featuring Vinyl Headligh
 ts!
DESCRIPTION:Tap House opens at 4 pm and we have Vinyl Headlights playi
 ng from 6 to 10 pm.  There will be green beer for $2.00, Green Apple 
 Shots for $3.00 and of course Irish Car Bombs for $5.00!!!  Get your 
 green on and your drink on at Tap House!!!\n \n\n\nFor more informati
 on visit https://vbnightlife.com/events/11th-street-tap-house-st
DTSTART:20110317T200000Z
DTEND:20110318T050000Z
CATEGORIES:"st.", "patty's", day, at, tap, house
LOCATION:11th Street Tap House
WEBSITE:http://www.11taphouse.com/
URL:http://www.11taphouse.com/
CONTACT:(757) 321-8354
ORGANIZER;CN="VBnightlife.com":https://vbnightlife.com/profile/admin
ATTACH;FMTTYPE="image/jpeg":http://storage.ning.com/topology/rest/1.0/
 file/get/1664132776?profile=original
ATTENDEE;ROLE=REQ-PARTICIPANT;PARTSTAT=ACCEPTED;RSVP=TRUE;CN="Rolan St
 ears":https://vbnightlife.com/profile/RolanStears
ATTENDEE;ROLE=REQ-PARTICIPANT;PARTSTAT=ACCEPTED;RSVP=TRUE;CN="SUSAN J.
  CHANNEL":https://vbnightlife.com/profile/SUSANJCHANNEL
ATTENDEE;ROLE=REQ-PARTICIPANT;PARTSTAT=ACCEPTED;RSVP=TRUE;CN="VBnightl
 ife.com":https://vbnightlife.com/profile/admin
ATTENDEE;ROLE=REQ-PARTICIPANT;PARTSTAT=TENTATIVE;RSVP=TRUE;CN=John:htt
 ps://vbnightlife.com/profile/John
END:VEVENT
END:VCALENDAR
