BEGIN:VCALENDAR
PRODID:NingEventWidget-v1
VERSION:2.0
METHOD:PUBLISH
BEGIN:VEVENT
UID:2508951:Event:180438
DTSTAMP:20260420T123201Z
SUMMARY:\"11th St. Taphouse\" $5.99 Tide Burgers & Pint Night with 50%
  off Micro Beers.  Josh Jordan performing 7 to 10 pm!
DESCRIPTION:Thursday Nights are the place to be in this economy with $
 5.99 Tide Burgers and 50% off Micro Beers all night!  This is the new
  spot to be on Thursday for great food at great prices and what can I 
 say about the 50% off your favorite micro beers!\n \nThey also have S
 pecial Select Beers for $2.00 pints, $3.00 Mugs and Steal a Glass for 
 $5.00 for your collection!\n \nWe have Josh Jordan performing from 7 
 to 10 pm!\n \nVBnightlife is in the house!  See you there!\n\nFor mo
 re information visit https://vbnightlife.com/events/11th-st-taphouse-5
 -99-tide-burgers-pint-night-with-50-off-micro-b
DTSTART:20111118T000000Z
DTEND:20111118T030000Z
CATEGORIES:burger, "&", pint, night
LOCATION:11th St. Taphouse
WEBSITE:http://www.11taphouse.com
URL:http://www.11taphouse.com
CONTACT:(757) 321-8354
ORGANIZER;CN="VBnightlife.com":https://vbnightlife.com/profile/admin
ATTACH;FMTTYPE="image/jpeg":http://storage.ning.com/topology/rest/1.0/
 file/get/1664157605?profile=original
ATTENDEE;ROLE=REQ-PARTICIPANT;PARTSTAT=ACCEPTED;RSVP=TRUE;CN="VBnightl
 ife.com":https://vbnightlife.com/profile/admin
END:VEVENT
END:VCALENDAR
