BEGIN:VCALENDAR
PRODID:NingEventWidget-v1
VERSION:2.0
METHOD:PUBLISH
BEGIN:VEVENT
UID:2508951:Event:9037
DTSTAMP:20260424T160755Z
SUMMARY:10 SPOT @ ROGUE'S, PEABODY'S, 4400 AND CHOS REUNION PARTY
DESCRIPTION:IT'S A GO ROGUE'S, PEABODY'S, 4400 AND CHOS REUNION SAT.MA
 Y 16TH 7:00 P.M.\n\nPEABODY'S\n\nFor more information visit https://vb
 nightlife.com/events/10-spot-rogues-peabodys-4400
DTSTART:20090516T040000Z
DTEND:20090517T035900Z
CATEGORIES:reunion
LOCATION:Peabody's
WEBSITE:
URL:
CONTACT:
ORGANIZER:Peabody's
ATTACH;FMTTYPE="image/jpeg":http://storage.ning.com/topology/rest/1.0/
 file/get/1664070560?profile=original
ATTENDEE;ROLE=REQ-PARTICIPANT;PARTSTAT=ACCEPTED;RSVP=TRUE;CN="Nicole M
 axino":https://vbnightlife.com/profile/NicoleMaxino
END:VEVENT
END:VCALENDAR
