BEGIN:VCALENDAR
PRODID:NingEventWidget-v1
VERSION:2.0
METHOD:PUBLISH
BEGIN:VEVENT
UID:2508951:Event:290823
DTSTAMP:20260425T090757Z
SUMMARY:Silent Disco Party / Fundraiser TONIGHT
DESCRIPTION:\nHighlights and Full Details \nWhy we love this event?\n
 \nJoin VBnightlife.com and experience the latest in party culture\nWhe
 n: August 1st from 8pm to 11pm\nWhere: Virginia Museum of Contempora
 ry Art - 6 blocks from the Oceanfront\nOnly 50 Discounted Tickets will
  be sold.\nEnjoy an evening of art and music with Headspace Silent Di
 sco  \nSilent Disco' = people dancing to music listened to on wirele
 ss headphones\nFood and art will combine with playlists that will crea
 te a total sensory experience of MOCA’s summer exhibition ‘Multipl
 icity’. \nMultiplicity is the concept of making multiple images fro
 m the same matrix has been integral to printmaking ever since the earl
 iest prints were pulled from woodblocks and metal plates in the fiftee
 nth century. - See more at:http://www.virginiamoca.org/multiplicity \
 nYou can explore the galleries that evening from 8 to 9 at no addition
 al charge \nTo round out the night, MOCA will join forces with Charle
 s Rasputin, Creative Director of Alchemy NFK to create limited editi
 on t-shirts \nOn-site print making demos\nBeer and Wine Cash Bar; $3
  MOCA Members, $4 non-members\nTwisted Sisters Cupcakes and Bella Vist
 a Pizza food trucks on-site!\n\n\nFor more information visit https://v
 bnightlife.com/events/1-2-price-tickets-to-silent-disco-party-fundrais
 er-only-12-50
DTSTART:20140802T000000Z
DTEND:20140802T030000Z
CATEGORIES:fundraiser, "silent disco"
LOCATION:Virgnia Museum of Contemporary Art
WEBSITE:
URL:
CONTACT:
ORGANIZER;CN="VBnightlife.com":https://vbnightlife.com/profile/admin
ATTACH;FMTTYPE="image/jpeg":http://storage.ning.com/topology/rest/1.0/
 file/get/1664242420?profile=original
ATTENDEE;ROLE=REQ-PARTICIPANT;PARTSTAT=ACCEPTED;RSVP=TRUE;CN="Rolan St
 ears":https://vbnightlife.com/profile/RolanStears
ATTENDEE;ROLE=REQ-PARTICIPANT;PARTSTAT=ACCEPTED;RSVP=TRUE;CN="VBnightl
 ife.com":https://vbnightlife.com/profile/admin
END:VEVENT
END:VCALENDAR
