BEGIN:VCALENDAR
PRODID:NingEventWidget-v1
VERSION:2.0
METHOD:PUBLISH
BEGIN:VEVENT
UID:2508951:Event:246412
DTSTAMP:20260422T045354Z
SUMMARY:1/2 OFF 10,000 Maniacs Concert & Beach Party at Paradise Ocean
  Club
DESCRIPTION:\nClick HERE to purchase tickets HALF OFF!\n\n\nWE HAVE ON
 LY 100 TICKETS AVAILABLE FOR THIS SPECIAL PRICE!\nWOW... This is going
  to be one awesome concert!\n10,000 Maniacs have produced 3 Platinum A
 lbums!\nMultiple Hit Songs: “Like The Weather”, “Whats The Matte
 r Here”, “Trouble Me”, “These Are Days”, Candy Everybody Wa
 nts”, “Few And Far Between”, Because The Night”, and “More 
 Than This”.\n\n\n10,000 Maniacs have performed on MTV Unplugged & Sa
 turday Night Live!\nCOME FOR THE ENTIRE DAY PARTY (Starting at 1pm) or
  COME JUST FOR THIS AWESOME CONCERT (Starting at 8pm)\n(YOU GOTTA CHE
 CK THIS PLACE OUT!) The Paradise Ocean Club is a superfun hangout spot
  with beach, pool, restaurants, bars & more! \nLOCATION- Paradise Oce
 an Club. Fort Monroe/Buckroe Beach/Hampton.\nDon't Miss This One!\nFUL
 L BAR & FOOD MENU Available All Day & Night!\n\nWelcome to The Paradis
 e Ocean Club, “Escape To Paradise”, your one stop destination. Com
 e out and have lunch or dinner at the NEW Bay Breeze Seafood Company o
 r have a seat at our large Tiki Bar and enjoy the view of the Chesapea
 ke Bay. New for 2013 is our inside dining in the air conditioned Chesa
 peake Room. If you want that VIP feel we offer private cabana rentals 
 or sit around our large pool and let us take care of all your needs.\n
 Treat yourself to our private beach and let our cabana boys bring chai
 rs and umbrellas out for you. Don't feel like getting up let our serve
 rs come to you and bring you food and drinks. \n \n\nFor more inform
 ation visit https://vbnightlife.com/events/1-2-off-10-000-maniacs-conc
 ert-beach-party-at-paradise-ocean-club
DTSTART:20130719T040000Z
DTEND:20130721T035900Z
CATEGORIES:"10,000 maniacs", vbnightlife, "paradise ocean club"
LOCATION:Paradise Ocean Beach Club
WEBSITE:http://vbhotdeals.com/Paradise-Ocean-Club/deals/10000-Maniacs-
 Concert--Beach-Party/55166/1511
URL:http://vbhotdeals.com/Paradise-Ocean-Club/deals/10000-Maniacs-Conc
 ert--Beach-Party/55166/1511
CONTACT:(757) 224-0290
ORGANIZER;CN="VBnightlife.com":https://vbnightlife.com/profile/admin
ATTACH;FMTTYPE="image/jpeg":http://storage.ning.com/topology/rest/1.0/
 file/get/1664201034?profile=original
ATTENDEE;ROLE=REQ-PARTICIPANT;PARTSTAT=ACCEPTED;RSVP=TRUE;CN="VBnightl
 ife.com":https://vbnightlife.com/profile/admin
ATTENDEE;ROLE=REQ-PARTICIPANT;PARTSTAT=ACCEPTED;RSVP=TRUE;CN="Elizabet
 h Crockett":https://vbnightlife.com/profile/ElizabethCrockett
END:VEVENT
END:VCALENDAR
